BEGIN:VCALENDAR
VERSION:2.0
PRODID:icalendar-ruby
CALSCALE:GREGORIAN
METHOD:PUBLISH
BEGIN:VEVENT
DTSTAMP:20260424T104324Z
UID:5-966039@spiritofchristclawson.org
DTSTART:20261004T140000Z
DTEND:20261004T150000Z
CLASS:PUBLIC
CREATED:20260423T223430
DESCRIPTION:Sunday Worship
LAST-MODIFIED:20260423T223430
LOCATION:
SUMMARY:Sunday Worship
URL;VALUE=URI:https://spiritofchristclawson.org/events/sunday-worship/2026-
 10-04
END:VEVENT
END:VCALENDAR
