BEGIN:VCALENDAR
VERSION:2.0
PRODID:icalendar-ruby
CALSCALE:GREGORIAN
METHOD:PUBLISH
BEGIN:VEVENT
DTSTAMP:20260424T155247Z
UID:5-967628@spiritofchristclawson.org
DTSTART:20261025T140000Z
DTEND:20261025T150000Z
CLASS:PUBLIC
CREATED:20260424T105600
DESCRIPTION:Sunday Worship
LAST-MODIFIED:20260424T105600
LOCATION:
SUMMARY:Sunday Worship
URL;VALUE=URI:https://spiritofchristclawson.org/events/sunday-worship/2026-
 10-25
END:VEVENT
END:VCALENDAR
