BEGIN:VCALENDAR
VERSION:2.0
PRODID:icalendar-ruby
CALSCALE:GREGORIAN
METHOD:PUBLISH
BEGIN:VEVENT
DTSTAMP:20260420T231457Z
UID:20-949201@spiritofchristclawson.org
DTSTART:20260428T213000Z
DTEND:20260428T233000Z
CLASS:PUBLIC
CREATED:20260420T123744
DESCRIPTION:Discover a refreshing blend of faith and conversation at Theolo
 gy on Tap\, hosted at Cadillac Straits Brewery every 4th Tuesday at 5:30 p
 .m. Engage in meaningful discussions about real-world events and their con
 nections to faith\, all while savoring libations and delicious food. Dinne
 r can be purchased on site as we begin at 6:00 p.m.\, creating an inviting
  atmosphere for open dialogue. Whether you're a seasoned theologian or jus
 t curious\, all are welcome to join this enriching gathering. Come\, sip\,
  dine\, and explore the intersections of life and faith with us.
LAST-MODIFIED:20260420T123744
LOCATION:Cadillac Straits Brewery
SUMMARY:Theology on Tap
URL;VALUE=URI:https://spiritofchristclawson.org/events/theology-on-tap/2026
 -04-28
ATTACH;FILENAME=IMG_1294.jpg;FMTTYPE=image/jpeg:https://dq5pwpg1q8ru0.cloud
 front.net/2024/01/06/13/59/47/d5f750e3-35e0-44f3-9774-089ac0e92e2d/IMG_129
 4.jpg
END:VEVENT
END:VCALENDAR
