BEGIN:VCALENDAR
VERSION:2.0
PRODID:icalendar-ruby
CALSCALE:GREGORIAN
METHOD:PUBLISH
BEGIN:VEVENT
DTSTAMP:20260421T110316Z
UID:26-952143@spiritofchristclawson.org
DTSTART:20260924T143000Z
DTEND:20260924T153000Z
CLASS:PUBLIC
CREATED:20260420T204222
DESCRIPTION:Thursday Bible Study is led by Deaconess Mary Fredricks. Her gr
 oup focuses on the lectionary\, scriptures that are focused on each Sunday
 . This Bible Study prepares themselves for Sunday Worship. Come in person 
 or join the discussion online. If you are on our email list reminder email
 s with the  Zoom information go out each Wednesday morning.
LAST-MODIFIED:20260420T204222
LOCATION:Spirit of Christ Lutheran Church 
SUMMARY:Thursday Bible Study
URL;VALUE=URI:https://spiritofchristclawson.org/events/thursday-bible-study
 /2026-09-24
ATTACH;FILENAME=Thursday-Bible-Study-with-Spirit-of-Christ-Lutheran-Church-
 Clawson%2C-michigan.png;FMTTYPE=image/png:https://dq5pwpg1q8ru0.cloudfront
 .net/2024/01/06/17/58/44/527a1415-25c1-4a74-9bb7-72db482217f9/Thursday-Bib
 le-Study-with-Spirit-of-Christ-Lutheran-Church-Clawson%252C-michigan.png
END:VEVENT
END:VCALENDAR
