BEGIN:VCALENDAR
VERSION:2.0
PRODID:icalendar-ruby
CALSCALE:GREGORIAN
METHOD:PUBLISH
BEGIN:VEVENT
DTSTAMP:20260423T231226Z
UID:119-964986@spiritofchristclawson.org
DTSTART:20261014T170000Z
DTEND:20261014T180000Z
CLASS:PUBLIC
CREATED:20260423T164644
DESCRIPTION:\nSeeking a weekly Bible study? Join our welcoming and inclusiv
 e Wednesday Bible &amp\; Friendship Group! This hour is specifically desig
 ned for people of all backgrounds and levels of faith exploration. We rota
 te through different\, accessible studies\, ensuring a fresh and stimulati
 ng spiritual journey every few weeks\, making us a great choice for midwee
 k spiritual growth. Our meetings are held every Wednesday afternoon\, from
  1:00 p.m. to 2:00 p.m. (excluding major holidays)\, right in the front co
 nference room of the church. Feel free to stop in and check out the group.
  \n
LAST-MODIFIED:20260423T164644
LOCATION:Spirit of Christ Lutheran Church
SUMMARY:Wednesday Bible & Friendship Group
URL;VALUE=URI:https://spiritofchristclawson.org/events/wednesday-bible-frie
 ndship-group/2026-10-14
END:VEVENT
END:VCALENDAR
